BEGIN:VCALENDAR
VERSION:2.0
PRODID:SchoolNow
CALSCALE:GREGORIAN
BEGIN:VEVENT
UID:c3fb989c-5962-11ee-ac0e-0aeab99ef361
DTSTAMP:20230922T162140Z
SUMMARY:CDD Board Meeting - Dec. 2023
LOCATION:2700 S. Falkenburg Rd. #2745\, Florida 33578
URL;VALUE=URI:https://www.watersetsouthcdd.org/calendar/4779676/cdd-board-m
 eeting-dec-2023
DTSTART:20231214T140000Z
DTEND:20231214T150000Z
END:VEVENT
END:VCALENDAR
