BEGIN:VCALENDAR
VERSION:2.0
PRODID:SchoolNow
CALSCALE:GREGORIAN
BEGIN:VEVENT
UID:d3d66ecc-5962-11ee-bf07-021785ed0d57
DTSTAMP:20230922T162150Z
SUMMARY:CDD Board Meeting - Jan. 2024
LOCATION:2700 S. Falkenburg Rd. #2745\, Florida 33578
URL;VALUE=URI:https://www.watersetsouthcdd.org/calendar/4779677/cdd-board-m
 eeting-jan-2024
DTSTART:20240111T140000Z
DTEND:20240111T150000Z
END:VEVENT
END:VCALENDAR
