BEGIN:VCALENDAR
VERSION:2.0
PRODID:SchoolNow
CALSCALE:GREGORIAN
BEGIN:VEVENT
UID:dfa843e2-5962-11ee-8faa-0a58a9feac02
DTSTAMP:20230922T162200Z
SUMMARY:CDD Board Meeting - Feb. 2024
LOCATION:2700 S. Falkenburg Rd. #2745\, Florida 33578
URL;VALUE=URI:https://www.watersetsouthcdd.org/calendar/4779679/cdd-board-m
 eeting-feb-2024
DTSTART:20240208T140000Z
DTEND:20240208T150000Z
END:VEVENT
END:VCALENDAR
