BEGIN:VCALENDAR
VERSION:2.0
PRODID:SchoolNow
CALSCALE:GREGORIAN
BEGIN:VEVENT
UID:f1878d70-5962-11ee-8648-0a58a9feac02
DTSTAMP:20230922T162211Z
SUMMARY:CDD Board Meeting - Mar. 2024
LOCATION:2700 S. Falkenburg Rd. #2745\, Florida 33578
URL;VALUE=URI:https://www.watersetsouthcdd.org/calendar/4779680/cdd-board-m
 eeting-mar-2024
DTSTART:20240314T130000Z
DTEND:20240314T140000Z
END:VEVENT
END:VCALENDAR
