BEGIN:VCALENDAR
VERSION:2.0
PRODID:SchoolNow
CALSCALE:GREGORIAN
BEGIN:VEVENT
UID:fb663710-5962-11ee-87ee-0efaf08bf7f9
DTSTAMP:20230922T162243Z
SUMMARY:CDD Board Meeting - Apr. 2024
LOCATION:2700 S. Falkenburg Rd. #2745\, Florida 33578
URL;VALUE=URI:https://www.watersetsouthcdd.org/calendar/4779681/cdd-board-m
 eeting-apr-2024
DTSTART:20240411T130000Z
DTEND:20240411T140000Z
END:VEVENT
END:VCALENDAR
