BEGIN:VCALENDAR
VERSION:2.0
PRODID:SchoolNow
CALSCALE:GREGORIAN
BEGIN:VEVENT
UID:0f519396-5963-11ee-bef2-0a58a9feac02
DTSTAMP:20230922T162255Z
SUMMARY:CDD Board Meeting - May 2024
LOCATION:2700 S. Falkenburg Rd. #2745\, Florida 33578
URL;VALUE=URI:https://www.watersetsouthcdd.org/calendar/4779683/cdd-board-m
 eeting-may-2024
DTSTART:20240509T130000Z
DTEND:20240509T140000Z
END:VEVENT
END:VCALENDAR
