BEGIN:VCALENDAR
VERSION:2.0
PRODID:SchoolNow
CALSCALE:GREGORIAN
BEGIN:VEVENT
UID:19917240-5963-11ee-b06d-0ec9f26cdb77
DTSTAMP:20230922T162309Z
SUMMARY:CDD Board Meeting - Jun. 2024
LOCATION:2700 S. Falkenburg Rd. #2745\, Florida 33578
URL;VALUE=URI:https://www.watersetsouthcdd.org/calendar/4779684/cdd-board-m
 eeting-jun-2024
DTSTART:20240613T130000Z
DTEND:20240613T140000Z
END:VEVENT
END:VCALENDAR
