BEGIN:VCALENDAR
VERSION:2.0
PRODID:SchoolNow
CALSCALE:GREGORIAN
BEGIN:VEVENT
UID:275de8fe-5963-11ee-ae7b-0a58a9feac02
DTSTAMP:20230922T162319Z
SUMMARY:CDD Board Meeting - Jul. 2024
LOCATION:2700 S. Falkenburg Rd. #2745\, Florida 33578
URL;VALUE=URI:https://www.watersetsouthcdd.org/calendar/4779685/cdd-board-m
 eeting-jul-2024
DTSTART:20240711T130000Z
DTEND:20240711T140000Z
END:VEVENT
END:VCALENDAR
