BEGIN:VCALENDAR
VERSION:2.0
PRODID:SchoolNow
CALSCALE:GREGORIAN
BEGIN:VEVENT
UID:32e632ee-5963-11ee-8cec-0a58a9feac02
DTSTAMP:20240711T142833Z
SUMMARY:CDD Board Meeting - Aug. 2024
LOCATION:2700 S. Falkenburg Rd. #2745\, Florida 33578
URL;VALUE=URI:https://www.watersetsouthcdd.org/calendar/4779686/cdd-board-m
 eeting-aug-2024-cancelled
DTSTART:20240815T130000Z
DTEND:20240815T140000Z
END:VEVENT
END:VCALENDAR
