BEGIN:VCALENDAR
VERSION:2.0
PRODID:SchoolNow
CALSCALE:GREGORIAN
BEGIN:VEVENT
UID:43e2d188-5963-11ee-8ee0-027e9799d105
DTSTAMP:20230922T162353Z
SUMMARY:CDD Board Meeting - Sept. 2024
LOCATION:2700 S. Falkenburg Rd. #2745\, Florida 33578
URL;VALUE=URI:https://www.watersetsouthcdd.org/calendar/4779687/cdd-board-m
 eeting-sept-2024
DTSTART:20240912T130000Z
DTEND:20240912T140000Z
END:VEVENT
END:VCALENDAR
