BEGIN:VCALENDAR
VERSION:2.0
PRODID:SchoolNow
CALSCALE:GREGORIAN
BEGIN:VEVENT
UID:4b273dcc-3891-11ef-81c7-0a58a9feac02
DTSTAMP:20240702T163832Z
SUMMARY:CDD Special Board Meeting - Aug. 2024
LOCATION:2700 S. Falkenburg Rd. #2745\, Florida 33578
URL;VALUE=URI:https://www.watersetsouthcdd.org/calendar/6199935/cdd-board-m
 eeting-aug-2024
DTSTART:20240815T130000Z
DTEND:20240815T140000Z
END:VEVENT
END:VCALENDAR
