BEGIN:VCALENDAR
VERSION:2.0
PRODID:SchoolNow
CALSCALE:GREGORIAN
BEGIN:VEVENT
UID:a1b45992-744e-11ef-be39-0a58a9feac02
DTSTAMP:20241007T145846Z
SUMMARY:CDD Board Meeting - Oct. 2024 - Cancelled
LOCATION:2700 S. Falkenburg Rd. #2745\, Florida 33578
URL;VALUE=URI:https://www.watersetsouthcdd.org/calendar/6617018/cdd-board-m
 eeting-oct-2024
DTSTART:20241010T130000Z
DTEND:20241010T140000Z
END:VEVENT
END:VCALENDAR
