BEGIN:VCALENDAR
VERSION:2.0
PRODID:SchoolNow
CALSCALE:GREGORIAN
BEGIN:VEVENT
UID:aa27dc98-744e-11ef-9a73-0afff7df8a9b
DTSTAMP:20241112T212642Z
SUMMARY:CDD Board Meeting - Nov. 2024
LOCATION:2700 S. Falkenburg Rd. #2745\, Florida 33578
URL;VALUE=URI:https://www.watersetsouthcdd.org/calendar/6617019/cdd-board-m
 eeting-nov-2024
DTSTART:20241114T140000Z
DTEND:20241114T150000Z
ATTACH;FILENAME=2024-11-14 - Waterset South CDD - Revised Final Agenda.pdf;
 FMTTYPE=application/pdf:https://campussuite-storage.s3.amazonaws.com/prod/
 1559139/071de9a4-352e-11ed-ba39-0e3d4d398339/2878643/cb359374-a13c-11ef-ab
 d8-0e1fc3cbee2d/file/2024-11-14 - Waterset South CDD - Revised Final Agend
 a.pdf
END:VEVENT
END:VCALENDAR
