BEGIN:VCALENDAR
VERSION:2.0
PRODID:SchoolNow
CALSCALE:GREGORIAN
BEGIN:VEVENT
UID:b1f72e92-744e-11ef-8a52-0e03c1a7aec7
DTSTAMP:20241211T213811Z
SUMMARY:CDD Board Meeting - Dec. 2024
LOCATION:2700 S. Falkenburg Rd. #2745\, Florida 33578
URL;VALUE=URI:https://www.watersetsouthcdd.org/calendar/6617020/cdd-board-m
 eeting-dec-2024
DTSTART:20241212T140000Z
DTEND:20241212T150000Z
ATTACH;FILENAME=2024-12-12 - Waterset South CDD - Revised Final Agenda.pdf;
 FMTTYPE=application/pdf:https://campussuite-storage.s3.amazonaws.com/prod/
 1559139/071de9a4-352e-11ed-ba39-0e3d4d398339/2890569/340e04b2-b808-11ef-90
 d1-0a58a9feac02/file/2024-12-12 - Waterset South CDD - Revised Final Agend
 a.pdf
END:VEVENT
END:VCALENDAR
