BEGIN:VCALENDAR
VERSION:2.0
PRODID:SchoolNow
CALSCALE:GREGORIAN
BEGIN:VEVENT
UID:ba64a398-744e-11ef-835a-0afff3f87517
DTSTAMP:20250109T135738Z
SUMMARY:CDD Board Meeting - Jan. 2025 - Cancelled
LOCATION:2700 S. Falkenburg Rd. #2745\, Florida 33578
URL;VALUE=URI:https://www.watersetsouthcdd.org/calendar/6617021/cdd-board-m
 eeting-jan-2025
DTSTART:20250109T140000Z
DTEND:20250109T150000Z
END:VEVENT
END:VCALENDAR
