BEGIN:VCALENDAR
VERSION:2.0
PRODID:SchoolNow
CALSCALE:GREGORIAN
BEGIN:VEVENT
UID:c18578b4-744e-11ef-8957-0affdaaaea37
DTSTAMP:20250207T182540Z
SUMMARY:CDD Board Meeting - Feb. 2025
LOCATION:2700 S. Falkenburg Rd. #2745\, Florida 33578
URL;VALUE=URI:https://www.watersetsouthcdd.org/calendar/6617022/cdd-board-m
 eeting-feb-2025
DTSTART:20250213T140000Z
DTEND:20250213T150000Z
ATTACH;FILENAME=2025-02-13 - Waterset South CDD - Final Agenda Packet.pdf;F
 MTTYPE=application/pdf:https://campussuite-storage.s3.amazonaws.com/prod/1
 559139/071de9a4-352e-11ed-ba39-0e3d4d398339/2912718/ec0bfa06-e580-11ef-bc6
 5-0a58a9feac02/file/2025-02-13 - Waterset South CDD - Final Agenda Packet.
 pdf
END:VEVENT
END:VCALENDAR
