BEGIN:VCALENDAR
VERSION:2.0
PRODID:SchoolNow
CALSCALE:GREGORIAN
BEGIN:VEVENT
UID:c930b1c8-744e-11ef-881b-0e39a938d661
DTSTAMP:20250305T184608Z
SUMMARY:CDD Board Meeting - Mar. 2025
LOCATION:2700 S. Falkenburg Rd. #2745\, Florida 33578
URL;VALUE=URI:https://www.watersetsouthcdd.org/calendar/6617023/cdd-board-m
 eeting-mar-2025
DTSTART:20250313T130000Z
DTEND:20250313T140000Z
ATTACH;FILENAME=2025-03-13 - Waterset South CDD - Final Agenda Packet.pdf;F
 MTTYPE=application/pdf:https://campussuite-storage.s3.amazonaws.com/prod/1
 559139/071de9a4-352e-11ed-ba39-0e3d4d398339/2923230/1311d82a-f9f2-11ef-beb
 6-0a58a9feac02/file/2025-03-13 - Waterset South CDD - Final Agenda Packet.
 pdf
END:VEVENT
END:VCALENDAR
