BEGIN:VCALENDAR
VERSION:2.0
PRODID:SchoolNow
CALSCALE:GREGORIAN
BEGIN:VEVENT
UID:d353bcf4-744e-11ef-b085-0291c7db3569
DTSTAMP:20250407T191021Z
SUMMARY:CDD Board Meeting - Apr. 2025
LOCATION:2700 S. Falkenburg Rd. #2745\, Florida 33578
URL;VALUE=URI:https://www.watersetsouthcdd.org/calendar/6617024/cdd-board-m
 eeting-apr-2025
DTSTART:20250410T130000Z
DTEND:20250410T140000Z
ATTACH;FILENAME=2025-04-10- Waterset South CDD - REVISED Final Agenda Packe
 t.pdf;FMTTYPE=application/pdf:https://campussuite-storage.s3.amazonaws.com
 /prod/1559139/071de9a4-352e-11ed-ba39-0e3d4d398339/2937438/f51afbba-13d4-1
 1f0-bba6-0a58a9feac02/file/2025-04-10- Waterset South CDD - REVISED Final 
 Agenda Packet.pdf
ATTACH;FILENAME=2025-04-10 - Waterset South CDD - Final Agenda Packet.pdf;F
 MTTYPE=application/pdf:https://campussuite-storage.s3.amazonaws.com/prod/1
 559139/071de9a4-352e-11ed-ba39-0e3d4d398339/2937534/eaedc94c-13e3-11f0-ab3
 9-0a58a9feac02/file/2025-04-10 - Waterset South CDD - Final Agenda Packet.
 pdf
END:VEVENT
END:VCALENDAR
