BEGIN:VCALENDAR
VERSION:2.0
PRODID:SchoolNow
CALSCALE:GREGORIAN
BEGIN:VEVENT
UID:e44db42e-744e-11ef-b1e4-028b56d159a1
DTSTAMP:20250605T173427Z
SUMMARY:CDD Board Meeting - Jun. 2025
LOCATION:2700 S. Falkenburg Rd. #2745\, Florida 33578
URL;VALUE=URI:https://www.watersetsouthcdd.org/calendar/6617026/cdd-board-m
 eeting-jun-2025
DTSTART:20250612T130000Z
DTEND:20250612T140000Z
ATTACH;FILENAME=2025-06-12- Waterset South CDD - Final Agenda Packet.pdf;FM
 TTYPE=application/pdf:https://campussuite-storage.s3.amazonaws.com/prod/15
 59139/071de9a4-352e-11ed-ba39-0e3d4d398339/2964915/4acef7fa-4233-11f0-9545
 -0a58a9feac02/file/2025-06-12- Waterset South CDD - Final Agenda Packet.pd
 f
END:VEVENT
END:VCALENDAR
