BEGIN:VCALENDAR
VERSION:2.0
PRODID:SchoolNow
CALSCALE:GREGORIAN
BEGIN:VEVENT
UID:eba2723c-744e-11ef-a3d2-0affdb41b1b1
DTSTAMP:20250703T171128Z
SUMMARY:CDD Board Meeting - Jul. 2025
LOCATION:2700 S. Falkenburg Rd. #2745\, Florida 33578
URL;VALUE=URI:https://www.watersetsouthcdd.org/calendar/6617027/cdd-board-m
 eeting-jul-2025
DTSTART:20250710T130000Z
DTEND:20250710T140000Z
ATTACH;FILENAME=2025-07-10 - Waterset South CDD - Final Agenda Packet.pdf;F
 MTTYPE=application/pdf:https://campussuite-storage.s3.amazonaws.com/prod/1
 559139/071de9a4-352e-11ed-ba39-0e3d4d398339/2978491/be7d3924-5830-11f0-8c9
 5-0a58a9feac02/file/2025-07-10 - Waterset South CDD - Final Agenda Packet.
 pdf
END:VEVENT
END:VCALENDAR
