BEGIN:VCALENDAR
VERSION:2.0
PRODID:SchoolNow
CALSCALE:GREGORIAN
BEGIN:VEVENT
UID:f5186e5c-744e-11ef-8f1d-0a58a9feac02
DTSTAMP:20250814T124838Z
SUMMARY:CDD Board Meeting - Aug. 2025
LOCATION:2700 S. Falkenburg Rd. #2745\, Florida 33578
URL;VALUE=URI:https://www.watersetsouthcdd.org/calendar/6617028/cdd-board-m
 eeting-aug-2025
DTSTART:20250814T130000Z
DTEND:20250814T140000Z
ATTACH;FILENAME=2025-08-14 - Waterset South CDD - Revised Agenda Packet (1)
 .pdf;FMTTYPE=application/pdf:https://campussuite-storage.s3.amazonaws.com/
 prod/1559139/071de9a4-352e-11ed-ba39-0e3d4d398339/2993076/fa84d1c8-790c-11
 f0-a8e2-0affd7b7bcdb/file/2025-08-14 - Waterset South CDD - Revised Agenda
  Packet (1).pdf
END:VEVENT
END:VCALENDAR
