BEGIN:VCALENDAR
VERSION:2.0
PRODID:SchoolNow
CALSCALE:GREGORIAN
BEGIN:VEVENT
UID:d1654e66-9218-11ef-8b86-0a58a9feac02
DTSTAMP:20241024T150116Z
SUMMARY:Landowner Meeting - Nov. 2024
LOCATION:Rizzetta & Company\, 2700 S. Falkenburg Rd. #2745\, Florida 33578
URL;VALUE=URI:https://www.watersetsouthcdd.org/calendar/6889509/landowner-m
 eeting-nov-2024
DTSTART:20241122T150000Z
DTEND:20241122T160000Z
END:VEVENT
END:VCALENDAR
