BEGIN:VCALENDAR
VERSION:2.0
PRODID:SchoolNow
CALSCALE:GREGORIAN
BEGIN:VEVENT
UID:f2a6ee08-5e5b-11f0-9bc1-0210512b0f9d
DTSTAMP:20250716T201742Z
SUMMARY:CDD Special Board Meeting - Jul. 2025
LOCATION:2700 S. Falkenburg Rd. #2745\, Florida 33578
URL;VALUE=URI:https://www.watersetsouthcdd.org/calendar/8405555/cdd-special
 -board-meeting-jul-2025
DTSTART:20250717T130000Z
DTEND:20250717T140000Z
ATTACH;FILENAME=2025-07-17 - Waterset South CDD - Revised Agenda Packet.pdf
 ;FMTTYPE=application/pdf:https://campussuite-storage.s3.amazonaws.com/prod
 /1559139/071de9a4-352e-11ed-ba39-0e3d4d398339/2982395/45ef1744-627a-11f0-8
 715-0a58a9feac02/file/2025-07-17 - Waterset South CDD - Revised Agenda Pac
 ket.pdf
END:VEVENT
END:VCALENDAR
