BEGIN:VCALENDAR
VERSION:2.0
PRODID:SchoolNow
CALSCALE:GREGORIAN
BEGIN:VEVENT
UID:990984d8-97d0-11f0-bd1a-0a58a9feac02
DTSTAMP:20251007T203914Z
SUMMARY:CDD Special Board Meeting - Oct. 2025
LOCATION:2700 S. Falkenburg Rd. #2745\, Florida 33578
URL;VALUE=URI:https://www.watersetsouthcdd.org/calendar/8653064/cdd-board-m
 eeting-oct-2025
DTSTART:20251014T140000Z
DTEND:20251014T150000Z
ATTACH;FILENAME=2025-10-14- Waterset South CDD - Final Agenda Packet.pdf;FM
 TTYPE=application/pdf:https://campussuite-storage.s3.amazonaws.com/prod/15
 59139/071de9a4-352e-11ed-ba39-0e3d4d398339/3018543/ad61642a-a3bd-11f0-b24e
 -0a58a9feac02/file/2025-10-14- Waterset South CDD - Final Agenda Packet.pd
 f
END:VEVENT
END:VCALENDAR
