BEGIN:VCALENDAR
VERSION:2.0
PRODID:SchoolNow
CALSCALE:GREGORIAN
BEGIN:VEVENT
UID:a5b14676-97d0-11f0-aae7-0a58a9feac02
DTSTAMP:20251107T221816Z
SUMMARY:CDD Board Meeting - Nov. 2025
LOCATION:2700 S. Falkenburg Rd. #2745\, Florida 33578
URL;VALUE=URI:https://www.watersetsouthcdd.org/calendar/8653065/cdd-board-m
 eeting-nov-2025
DTSTART:20251113T150000Z
DTEND:20251113T160000Z
ATTACH;FILENAME=2025-11-13 - Waterset South CDD - Revised Agenda Packet.pdf
 ;FMTTYPE=application/pdf:https://campussuite-storage.s3.amazonaws.com/prod
 /1559139/071de9a4-352e-11ed-ba39-0e3d4d398339/3034956/a2234cb8-bc27-11f0-8
 181-0a58a9feac02/file/2025-11-13 - Waterset South CDD - Revised Agenda Pac
 ket.pdf
END:VEVENT
END:VCALENDAR
