BEGIN:VCALENDAR
VERSION:2.0
PRODID:SchoolNow
CALSCALE:GREGORIAN
BEGIN:VEVENT
UID:acfa8fc8-97d0-11f0-88a4-02d4aeb81cfd
DTSTAMP:20251211T164644Z
SUMMARY:CDD Board Meeting - Dec. 2025
LOCATION:2700 S. Falkenburg Rd. #2745\, Florida 33578
URL;VALUE=URI:https://www.watersetsouthcdd.org/calendar/8653066/cdd-board-m
 eeting-dec-2025
DTSTART:20251211T150000Z
DTEND:20251211T160000Z
ATTACH;FILENAME=2025-12-11 - Waterset South CDD - REVISED Agenda Packet.pdf
 ;FMTTYPE=application/pdf:https://campussuite-storage.s3.amazonaws.com/prod
 /1559139/071de9a4-352e-11ed-ba39-0e3d4d398339/3048357/44be61d8-d221-11f0-b
 3d5-0e93377aa41f/file/2025-12-11 - Waterset South CDD - REVISED Agenda Pac
 ket.pdf
END:VEVENT
END:VCALENDAR
