BEGIN:VCALENDAR
VERSION:2.0
PRODID:SchoolNow
CALSCALE:GREGORIAN
BEGIN:VEVENT
UID:b6d4458e-97d0-11f0-87d9-0e2a0f17729d
DTSTAMP:20260107T225608Z
SUMMARY:CDD Board Meeting - Jan. 2026
LOCATION:2700 S. Falkenburg Rd. #2745\, Florida 33578
URL;VALUE=URI:https://www.watersetsouthcdd.org/calendar/8653068/cdd-board-m
 eeting-jan-2026
DTSTART:20260108T150000Z
DTEND:20260108T160000Z
ATTACH;FILENAME=2026-01-08 - Waterset South CDD - Revised Final Agenda Pack
 et.pdf;FMTTYPE=application/pdf:https://campussuite-storage.s3.amazonaws.co
 m/prod/1559139/071de9a4-352e-11ed-ba39-0e3d4d398339/3058070/f2ad5a92-ec16-
 11f0-86c7-0affd157e299/file/2026-01-08 - Waterset South CDD - Revised Fina
 l Agenda Packet.pdf
END:VEVENT
END:VCALENDAR
