BEGIN:VCALENDAR
VERSION:2.0
PRODID:SchoolNow
CALSCALE:GREGORIAN
BEGIN:VEVENT
UID:bf4546aa-97d0-11f0-98ed-02d4aeb81cfd
DTSTAMP:20260212T130343Z
SUMMARY:CDD Board Meeting - Feb. 2026
LOCATION:2700 S. Falkenburg Rd. #2745\, Florida 33578
URL;VALUE=URI:https://www.watersetsouthcdd.org/calendar/8653069/cdd-board-m
 eeting-feb-2026
DTSTART:20260212T150000Z
DTEND:20260212T160000Z
ATTACH;FILENAME=2026-02-12 - Waterset South CDD - Revised Final Agenda.pdf;
 FMTTYPE=application/pdf:https://campussuite-storage.s3.amazonaws.com/prod/
 1559139/071de9a4-352e-11ed-ba39-0e3d4d398339/3069949/3dbb49e6-0813-11f1-95
 64-0a58a9feac02/file/2026-02-12 - Waterset South CDD - Revised Final Agend
 a.pdf
END:VEVENT
END:VCALENDAR
