BEGIN:VCALENDAR
VERSION:2.0
PRODID:SchoolNow
CALSCALE:GREGORIAN
BEGIN:VEVENT
UID:c6fa2dde-97d0-11f0-9649-0a58a9feac02
DTSTAMP:20260311T203029Z
SUMMARY:CDD Board Meeting - Mar. 2026
LOCATION:2700 S. Falkenburg Rd. #2745\, Florida 33578
URL;VALUE=URI:https://www.watersetsouthcdd.org/calendar/8653070/cdd-board-m
 eeting-mar-2026
DTSTART:20260312T140000Z
DTEND:20260312T150000Z
ATTACH;FILENAME=2026-03-12- Waterset South CDD- Revised Final Agenda.pdf;FM
 TTYPE=application/pdf:https://campussuite-storage.s3.amazonaws.com/prod/15
 59139/071de9a4-352e-11ed-ba39-0e3d4d398339/3079005/215d3698-1d89-11f1-b87c
 -02a5c0111cb7/file/2026-03-12- Waterset South CDD- Revised Final Agenda.pd
 f
END:VEVENT
END:VCALENDAR
