BEGIN:VCALENDAR
VERSION:2.0
PRODID:SchoolNow
CALSCALE:GREGORIAN
BEGIN:VEVENT
UID:f19b0126-97d0-11f0-8d12-0249ca2493a5
DTSTAMP:20250922T162651Z
SUMMARY:CDD Board Meeting - Aug. 2026
LOCATION:2700 S. Falkenburg Rd. #2745\, Florida 33578
URL;VALUE=URI:https://www.watersetsouthcdd.org/calendar/8653075/cdd-board-m
 eeting-aug-2026
DTSTART:20260813T140000Z
DTEND:20260813T150000Z
END:VEVENT
END:VCALENDAR
