BEGIN:VCALENDAR
VERSION:2.0
PRODID:SchoolNow
CALSCALE:GREGORIAN
BEGIN:VEVENT
UID:fea04fb6-97d0-11f0-8a8c-0a58a9feac02
DTSTAMP:20250922T162712Z
SUMMARY:CDD Board Meeting - Sept. 2026
LOCATION:2700 S. Falkenburg Rd. #2745\, Florida 33578
URL;VALUE=URI:https://www.watersetsouthcdd.org/calendar/8653076/cdd-board-m
 eeting-sept-2026
DTSTART:20260910T140000Z
DTEND:20260910T150000Z
END:VEVENT
END:VCALENDAR
