BEGIN:VCALENDAR
VERSION:2.0
PRODID:SchoolNow
CALSCALE:GREGORIAN
BEGIN:VEVENT
UID:a12f679a-0d19-11f1-afd5-0a58a9feac02
DTSTAMP:20260224T200321Z
SUMMARY:CDD Board Meeting - Feb. 25th\, 2026
LOCATION:2700 S. Falkenburg Rd. #2745\, Florida 33578
URL;VALUE=URI:https://www.watersetsouthcdd.org/calendar/8859515/cdd-board-m
 eeting-feb-25th-2026
DTSTART:20260225T140000Z
DTEND:20260225T150000Z
ATTACH;FILENAME=2026-02-25 Waterset South CDD- Revised Agenda.pdf;FMTTYPE=a
 pplication/pdf:https://campussuite-storage.s3.amazonaws.com/prod/1559139/0
 71de9a4-352e-11ed-ba39-0e3d4d398339/3073896/dab45556-11bb-11f1-babf-0a58a9
 feac02/file/2026-02-25 Waterset South CDD- Revised Agenda.pdf
END:VEVENT
END:VCALENDAR
